BEGIN:VCALENDAR
VERSION:2.0
PRODID:-//Morgan County Association of REALTORS® - ECPv6.15.20//NONSGML v1.0//EN
CALSCALE:GREGORIAN
METHOD:PUBLISH
X-WR-CALNAME:Morgan County Association of REALTORS®
X-ORIGINAL-URL:https://mcaor.org
X-WR-CALDESC:Events for Morgan County Association of REALTORS®
REFRESH-INTERVAL;VALUE=DURATION:PT1H
X-Robots-Tag:noindex
X-PUBLISHED-TTL:PT1H
BEGIN:VTIMEZONE
TZID:America/Chicago
BEGIN:DAYLIGHT
TZOFFSETFROM:-0600
TZOFFSETTO:-0500
TZNAME:CDT
DTSTART:20250309T080000
END:DAYLIGHT
BEGIN:STANDARD
TZOFFSETFROM:-0500
TZOFFSETTO:-0600
TZNAME:CST
DTSTART:20251102T070000
END:STANDARD
BEGIN:DAYLIGHT
TZOFFSETFROM:-0600
TZOFFSETTO:-0500
TZNAME:CDT
DTSTART:20260308T080000
END:DAYLIGHT
BEGIN:STANDARD
TZOFFSETFROM:-0500
TZOFFSETTO:-0600
TZNAME:CST
DTSTART:20261101T070000
END:STANDARD
BEGIN:DAYLIGHT
TZOFFSETFROM:-0600
TZOFFSETTO:-0500
TZNAME:CDT
DTSTART:20270314T080000
END:DAYLIGHT
BEGIN:STANDARD
TZOFFSETFROM:-0500
TZOFFSETTO:-0600
TZNAME:CST
DTSTART:20271107T070000
END:STANDARD
END:VTIMEZONE
BEGIN:VEVENT
DTSTART;TZID=America/Chicago:20260409T090000
DTEND;TZID=America/Chicago:20260409T120000
DTSTAMP:20260422T035055
CREATED:20260112T162332Z
LAST-MODIFIED:20260112T162332Z
UID:1941-1775725200-1775736000@mcaor.org
SUMMARY:MCAOR - Code of Ethics CE Class
DESCRIPTION:
URL:https://mcaor.org/event/mcaor-code-of-ethics-ce-class/
CATEGORIES:Broker Open House
ATTACH;FMTTYPE=image/jpeg:https://mcaor.org/wp-content/uploads/2026/01/Affiliate-Logo.jpg
END:VEVENT
BEGIN:VEVENT
DTSTART;TZID=America/Chicago:20260409T130000
DTEND;TZID=America/Chicago:20260409T160000
DTSTAMP:20260422T035055
CREATED:20260112T162641Z
LAST-MODIFIED:20260112T162652Z
UID:1944-1775739600-1775750400@mcaor.org
SUMMARY:MCAOR - Code of Ethics CE Class
DESCRIPTION:
URL:https://mcaor.org/event/mcaor-code-of-ethics-ce-class-2/
CATEGORIES:Broker Open House
ATTACH;FMTTYPE=image/jpeg:https://mcaor.org/wp-content/uploads/2026/01/Redstone-FCU-scaled.jpg
END:VEVENT
END:VCALENDAR