BEGIN:VCALENDAR
VERSION:2.0
PRODID:-//Morgan County Association of REALTORS® - ECPv6.15.20//NONSGML v1.0//EN
CALSCALE:GREGORIAN
METHOD:PUBLISH
X-WR-CALNAME:Morgan County Association of REALTORS®
X-ORIGINAL-URL:https://mcaor.org
X-WR-CALDESC:Events for Morgan County Association of REALTORS®
REFRESH-INTERVAL;VALUE=DURATION:PT1H
X-Robots-Tag:noindex
X-PUBLISHED-TTL:PT1H
BEGIN:VTIMEZONE
TZID:America/Chicago
BEGIN:DAYLIGHT
TZOFFSETFROM:-0600
TZOFFSETTO:-0500
TZNAME:CDT
DTSTART:20250309T080000
END:DAYLIGHT
BEGIN:STANDARD
TZOFFSETFROM:-0500
TZOFFSETTO:-0600
TZNAME:CST
DTSTART:20251102T070000
END:STANDARD
BEGIN:DAYLIGHT
TZOFFSETFROM:-0600
TZOFFSETTO:-0500
TZNAME:CDT
DTSTART:20260308T080000
END:DAYLIGHT
BEGIN:STANDARD
TZOFFSETFROM:-0500
TZOFFSETTO:-0600
TZNAME:CST
DTSTART:20261101T070000
END:STANDARD
BEGIN:DAYLIGHT
TZOFFSETFROM:-0600
TZOFFSETTO:-0500
TZNAME:CDT
DTSTART:20270314T080000
END:DAYLIGHT
BEGIN:STANDARD
TZOFFSETFROM:-0500
TZOFFSETTO:-0600
TZNAME:CST
DTSTART:20271107T070000
END:STANDARD
END:VTIMEZONE
BEGIN:VEVENT
DTSTART;TZID=America/Chicago:20260423T090000
DTEND;TZID=America/Chicago:20260423T120000
DTSTAMP:20260423T055038
CREATED:20260112T162933Z
LAST-MODIFIED:20260112T162933Z
UID:1947-1776934800-1776945600@mcaor.org
SUMMARY:MCAOR - Using AI in today's Real Estate World CE Class
DESCRIPTION:
URL:https://mcaor.org/event/mcaor-using-ai-in-todays-real-estate-world-ce-class/
CATEGORIES:Broker Open House
ATTACH;FMTTYPE=image/png:https://mcaor.org/wp-content/uploads/2024/09/Morgan-County-Association-of-REALTORS-Logo-W.png
END:VEVENT
BEGIN:VEVENT
DTSTART;TZID=America/Chicago:20260423T120000
DTEND;TZID=America/Chicago:20260423T143000
DTSTAMP:20260423T055039
CREATED:20260422T130434Z
LAST-MODIFIED:20260422T130434Z
UID:2163-1776945600-1776954600@mcaor.org
SUMMARY:1544 Blackhall Lane - Brokers Open April 23rd from 12:00-2:30
DESCRIPTION:
URL:https://mcaor.org/event/1544-blackhall-lane-brokers-open-april-23rd-from-1200-230/
CATEGORIES:Broker Open House
ATTACH;FMTTYPE=image/png:https://mcaor.org/wp-content/uploads/2026/04/image.png
END:VEVENT
BEGIN:VEVENT
DTSTART;TZID=America/Chicago:20260423T130000
DTEND;TZID=America/Chicago:20260423T160000
DTSTAMP:20260423T055039
CREATED:20260112T163138Z
LAST-MODIFIED:20260112T163138Z
UID:1950-1776949200-1776960000@mcaor.org
SUMMARY:MCAOR - Using AI in today's Real Estate World CE Class
DESCRIPTION:
URL:https://mcaor.org/event/mcaor-using-ai-in-todays-real-estate-world-ce-class-2/
CATEGORIES:Broker Open House
ATTACH;FMTTYPE=image/png:https://mcaor.org/wp-content/uploads/2024/09/Morgan-County-Association-of-REALTORS-Logo-W.png
END:VEVENT
END:VCALENDAR